BEGIN:VCALENDAR
VERSION:2.0
PRODID:-//hacksw/handcal//NONSGML v1.0//EN
CALSCALE:GREGORIAN
BEGIN:VEVENT
LOCATION:Webinar
DESCRIPTION:Understanding the difference between Azure AI Foundry and Copilot Studio helps you choose the right platform for your scenario\, align with your team’s skills\, and build AI solutions more efficiently without unnecessary complexity\, cost\, or rework. Sign up for the webinar to learn more!
DTSTART:20260429T140000Z
DTEND:20260429T144500Z
SUMMARY:Azure AI Foundry vs. Copilot Studio: Which tool should you use?
URL;VALUE=URI:https://netnordic.noboxdesign.se/events/azure-ai-foundry-vs-copilot-studio-which-tool-should-you-use/
DTSTAMP:20260423T161526Z
UID:69ea459e69192
END:VEVENT
END:VCALENDAR