BEGIN:VCALENDAR
VERSION:2.0
PRODID:-//hacksw/handcal//NONSGML v1.0//EN
CALSCALE:GREGORIAN
BEGIN:VEVENT
LOCATION:Online
DESCRIPTION:One of the highlights of this webinar is a practical case example drawn from real-world implementation. We will demonstrate how an Intelligent Network architecture — built on Zero Trust principles\, automated security\, and compliance by design — has been successfully deployed in complex environments.
DTSTART:20260326T080000Z
DTEND:20260326T083000Z
SUMMARY:NetTalk: The Intelligent Network
URL;VALUE=URI:https://netnordic.noboxdesign.se/events/nettalk-the-intelligent-network-webinar/
DTSTAMP:20260424T003732Z
UID:69eabb4cd48eb
END:VEVENT
END:VCALENDAR